BEGIN:VCALENDAR
VERSION:2.0
PRODID:icalendar-ruby
CALSCALE:GREGORIAN
METHOD:PUBLISH
BEGIN:VEVENT
DTSTAMP:20260422T011804Z
UID:6-290468@cityroadec.net
DTSTART:20260712T140000Z
DTEND:20260712T150000Z
CLASS:PUBLIC
CREATED:20260421T185758
DESCRIPTION:Adult Sunday SchoolA welcoming space for adults to study the Bi
 ble\, explore faith topics\, and discuss how Christian teachings apply to 
 everyday life through guided discussion and fellowship.\nChildren’s Sund
 ay SchoolA fun\, age-appropriate program where children learn Bible storie
 s\, Christian values\, and prayers through activities\, crafts\, music\, a
 nd interactive lessons.\nYouth Sunday SchoolAn engaging class for middle a
 nd high school youth focused on faith formation\, real-life application of
  Scripture\, open discussion\, and building a supportive Christian communi
 ty.
LAST-MODIFIED:20260421T185758
LOCATION:Edwards Hall
SUMMARY:Sunday School
URL;VALUE=URI:https://www.cityroadec.net/events/sunday-school/2026-07-12
ATTACH;FILENAME=FzOeY.jpg;FMTTYPE=image/jpeg:https://dq5pwpg1q8ru0.cloudfro
 nt.net/2026/01/08/18/14/26/0212b6a6-4720-4d48-ac75-09c905506b0e/FzOeY.jpg
END:VEVENT
END:VCALENDAR
