BEGIN:VCALENDAR
VERSION:2.0
PRODID:icalendar-ruby
CALSCALE:GREGORIAN
METHOD:PUBLISH
BEGIN:VEVENT
DTSTAMP:20260422T002138Z
UID:7-290510@cityroadec.net
DTSTART:20260705T150000Z
DTEND:20260705T160000Z
CLASS:PUBLIC
CREATED:20260421T185758
DESCRIPTION:We invite you to worship with us each week as we gather to prai
 se God\, hear His Word\, and encourage one another. All are welcome. We lo
 ok forward to seeing you!
LAST-MODIFIED:20260421T185758
LOCATION:Sanctuary
SUMMARY:Worship Service
URL;VALUE=URI:https://www.cityroadec.net/events/worship-service--7/2026-07-
 05
ATTACH;FILENAME=476227424_1039715244866574_2772523246209381700_n.jpg;FMTTYP
 E=image/jpeg:https://dq5pwpg1q8ru0.cloudfront.net/2026/01/08/18/20/37/fcfe
 4a1b-94dd-4e39-aa8e-a992fd774e92/476227424_1039715244866574_27725232462093
 81700_n.jpg
END:VEVENT
END:VCALENDAR
